BEGIN:VCALENDAR
VERSION:2.0
PRODID:-//NLV Maleisië - ECPv6.0.12//NONSGML v1.0//EN
CALSCALE:GREGORIAN
METHOD:PUBLISH
X-ORIGINAL-URL:https://nlvmaleisie.org
X-WR-CALDESC:Evenementen voor NLV Maleisië
REFRESH-INTERVAL;VALUE=DURATION:PT1H
X-Robots-Tag:noindex
X-PUBLISHED-TTL:PT1H
BEGIN:VTIMEZONE
TZID:UTC
BEGIN:STANDARD
TZOFFSETFROM:+0000
TZOFFSETTO:+0000
TZNAME:UTC
DTSTART:20240101T000000
END:STANDARD
END:VTIMEZONE
BEGIN:VEVENT
DTSTART;TZID=UTC:20240114T170000
DTEND;TZID=UTC:20240114T200000
DTSTAMP:20260422T151748
CREATED:20231215T090412Z
LAST-MODIFIED:20231215T090412Z
UID:634-1705251600-1705262400@nlvmaleisie.org
SUMMARY:Nieuwjaarsborrel
DESCRIPTION:
URL:https://nlvmaleisie.org/event/nieuwjaarsborrel/
LOCATION:Sofitel Bukit Damansara (level 3)\, 6\, Jalan Damanlela\, Bukit Damansara\, 50490 Kuala Lumpur\, Wilayah Persekutuan Kuala Lumpur\, Kuala Lumpur\, Maleisië
ATTACH;FMTTYPE=image/jpeg:https://nlvmaleisie.org/wp-content/uploads/2023/12/Flyer-nieuwjaar-def.jpg
END:VEVENT
END:VCALENDAR