BEGIN:VCALENDAR
VERSION:2.0
PRODID:-//NLV Maleisië - ECPv6.0.12//NONSGML v1.0//EN
CALSCALE:GREGORIAN
METHOD:PUBLISH
X-ORIGINAL-URL:https://nlvmaleisie.org
X-WR-CALDESC:Evenementen voor NLV Maleisië
REFRESH-INTERVAL;VALUE=DURATION:PT1H
X-Robots-Tag:noindex
X-PUBLISHED-TTL:PT1H
BEGIN:VTIMEZONE
TZID:UTC
BEGIN:STANDARD
TZOFFSETFROM:+0000
TZOFFSETTO:+0000
TZNAME:UTC
DTSTART:20230101T000000
END:STANDARD
END:VTIMEZONE
BEGIN:VEVENT
DTSTART;TZID=UTC:20231104T100000
DTEND;TZID=UTC:20231104T150000
DTSTAMP:20260422T170117
CREATED:20230801T092515Z
LAST-MODIFIED:20230802T075026Z
UID:545-1699092000-1699110000@nlvmaleisie.org
SUMMARY:Rafting Event
DESCRIPTION:Op zaterdag 4 november gaan we raften! \nMinimum leeftijd is 5 jaar en iedereen moet minstens 20 kilo wegen. \nHet evenement is van 10u tot 15u en het raften en de bbq achteraf zijn inclusief! \nDe kosten worden gedeeltelijk gesponsord door de NLV en bedragen nog maar 150 MYR per persoon. voor kinderen tot 12 jaar geldt een speciale prijs van 100 MYR per kind. \nInschrijven kan via deze link. \n 
URL:https://nlvmaleisie.org/event/rafting-event/
ATTACH;FMTTYPE=image/jpeg:https://nlvmaleisie.org/wp-content/uploads/2023/08/we-gaan-Raften-1-2.jpg
END:VEVENT
END:VCALENDAR